BEGIN:VCALENDAR
VERSION:2.0
PRODID:-//Sabre//Sabre VObject 4.5.8//EN
CALSCALE:GREGORIAN
BEGIN:VEVENT
UID:sabre-vobject-15ec5b51-6e3f-41a7-b868-2d5f40a3e5fb
DTSTAMP:20260420T043937Z
SUMMARY:Öffentliche Führung
DESCRIPTION:https://regioningolstadt.com/oeffentliche-fuehrung_id32242
DTSTART;TZID=Europe/Berlin:20240922T134500
DURATION:PT30M
LOCATION:Schrobenhausen\, Treffpunkt Busbahnhof
END:VEVENT
END:VCALENDAR
