BEGIN:VCALENDAR
VERSION:2.0
PRODID:-//Sabre//Sabre VObject 4.5.8//EN
CALSCALE:GREGORIAN
BEGIN:VEVENT
UID:sabre-vobject-5797eb89-8e36-40d4-abad-85725600237d
DTSTAMP:20260420T155610Z
SUMMARY:Öffentliche Führung
DESCRIPTION:https://regioningolstadt.com/oeffentliche-fuehrung_id32241
DTSTART;TZID=Europe/Berlin:20240915T174500
DTEND;TZID=Europe/Berlin:20240915T201500
LOCATION:Hinterkaifeck\, \, 86579  Waidhofen
END:VEVENT
END:VCALENDAR
