BEGIN:VCALENDAR
VERSION:2.0
PRODID:-//Sabre//Sabre VObject 4.5.8//EN
CALSCALE:GREGORIAN
BEGIN:VEVENT
UID:sabre-vobject-8bd74c35-e956-4345-9826-d5db084bedb4
DTSTAMP:20260421T145619Z
SUMMARY:Öffentliche Führung
DESCRIPTION:https://regioningolstadt.com/oeffentliche-fuehrung_id32240
DTSTART;TZID=Europe/Berlin:20240817T184500
DTEND;TZID=Europe/Berlin:20240817T211500
LOCATION:Hinterkaifeck\, \, 86579  Waidhofen
END:VEVENT
END:VCALENDAR
