BEGIN:VCALENDAR
VERSION:2.0
PRODID:-//Sabre//Sabre VObject 4.5.8//EN
CALSCALE:GREGORIAN
BEGIN:VEVENT
UID:sabre-vobject-79bb0bb5-8d32-452b-b7f4-596240775ee7
DTSTAMP:20260422T011726Z
SUMMARY:Öffentliche Führung
DESCRIPTION:https://regioningolstadt.com/oeffentliche-fuehrung_id32239
DTSTART;TZID=Europe/Berlin:20240804T134500
DTEND;TZID=Europe/Berlin:20240804T154500
LOCATION:Schrobenhausen\, Treffpunkt Busbahnhof
END:VEVENT
END:VCALENDAR
