BEGIN:VCALENDAR
VERSION:2.0
PRODID:-//Sabre//Sabre VObject 4.5.8//EN
CALSCALE:GREGORIAN
BEGIN:VEVENT
UID:sabre-vobject-d3ef1c3a-b433-4078-ad47-bc4fdd9650e5
DTSTAMP:20260422T131733Z
SUMMARY:Öffentliche Führung
DESCRIPTION:https://regioningolstadt.com/oeffentliche-fuehrung_id32238
DTSTART;TZID=Europe/Berlin:20240721T184500
DTEND;TZID=Europe/Berlin:20240721T211500
LOCATION:Hinterkaifeck\, \, 86579  Waidhofen
END:VEVENT
END:VCALENDAR
