BEGIN:VCALENDAR
VERSION:2.0
PRODID:-//Sabre//Sabre VObject 4.5.8//EN
CALSCALE:GREGORIAN
BEGIN:VEVENT
UID:sabre-vobject-20542b78-b61a-4df4-b0a9-57d65e47e8a8
DTSTAMP:20260425T232237Z
SUMMARY:Spargelzeit in der Erlebnisregion Neuburg-Schrobenhausen
DESCRIPTION:https://regioningolstadt.com/spargelzeit-in-der-erlebnisregion-
 neuburg-schrobenhausen_id32237
DTSTART;TZID=Europe/Berlin:20240418T000000
DTEND;TZID=Europe/Berlin:20240624T000000
END:VEVENT
END:VCALENDAR
