BEGIN:VCALENDAR
VERSION:2.0
PRODID:-//Sabre//Sabre VObject 4.5.8//EN
CALSCALE:GREGORIAN
BEGIN:VEVENT
UID:sabre-vobject-7a0cecfb-ec95-4b80-bade-330d61ad5b6f
DTSTAMP:20260420T204605Z
SUMMARY:Wiener Kaffeehausmusik vom Ingolstädter Kammerorchester
DESCRIPTION:https://regioningolstadt.com/wiener-kaffeehausmusik-vom-ingolst
 aedter-kammerorchester_id32218
DTSTART;TZID=Europe/Berlin:20240414T170000
DURATION:PT30M
LOCATION:Bauerngerätemuseum\, Probststraße 13\, 85049 Ingolstadt
END:VEVENT
END:VCALENDAR
