BEGIN:VCALENDAR
VERSION:2.0
PRODID:-//Sabre//Sabre VObject 4.5.8//EN
CALSCALE:GREGORIAN
BEGIN:VEVENT
UID:sabre-vobject-b50adaf5-0e61-41be-bced-900a233d506c
DTSTAMP:20260420T221620Z
SUMMARY:Wiener Kaffeehausmusik
DESCRIPTION:https://regioningolstadt.com/wiener-kaffeehausmusik_id32217
DTSTART;TZID=Europe/Berlin:20240414T170000
DTEND;TZID=Europe/Berlin:20240414T190000
LOCATION:Bauerngerätemuseum\, Probststraße 13\, 85049 Ingolstadt
END:VEVENT
END:VCALENDAR
