BEGIN:VCALENDAR
VERSION:2.0
PRODID:-//Sabre//Sabre VObject 4.5.8//EN
CALSCALE:GREGORIAN
BEGIN:VEVENT
UID:sabre-vobject-14cab72a-d12b-4aa5-b923-decf743c8a6c
DTSTAMP:20260422T205710Z
SUMMARY:Scherbelbergbunker
DESCRIPTION:https://regioningolstadt.com/scherbelbergbunker_id32209
DTSTART;TZID=Europe/Berlin:20241103T140000
DTEND;TZID=Europe/Berlin:20241103T150000
LOCATION:Zugang Scherbelbergbunker\, Jahnstraße\, \,  
END:VEVENT
END:VCALENDAR
