BEGIN:VCALENDAR
VERSION:2.0
PRODID:-//Sabre//Sabre VObject 4.5.8//EN
CALSCALE:GREGORIAN
BEGIN:VEVENT
UID:sabre-vobject-54711243-8d6c-469d-85bc-308d61e12f54
DTSTAMP:20260423T030503Z
SUMMARY:Frankenstein....oder die Geister die ich rief!
DESCRIPTION:https://regioningolstadt.com/frankenstein-oder-die-geister-die-
 ich-rief_id32171
DTSTART;TZID=Europe/Berlin:20240721T133000
DTEND;TZID=Europe/Berlin:20240721T150000
LOCATION:Vor Tourist Information am Rathausplatz\, Moritzstraße 19\, 85049
  Ingolstadt
END:VEVENT
END:VCALENDAR
