BEGIN:VCALENDAR
VERSION:2.0
PRODID:-//Sabre//Sabre VObject 4.5.8//EN
CALSCALE:GREGORIAN
BEGIN:VEVENT
UID:sabre-vobject-21eaaf46-1c1a-49a4-9fde-792c7158b57d
DTSTAMP:20260419T155232Z
SUMMARY:DER NEUE DIYNSTAG  „RISOGRAPHIE“ ONLINE-WORKSHOP MIT TINE KOPPL
 IN/UNVERBLÜMELT
DESCRIPTION:https://regioningolstadt.com/der-neue-diynstag-risographie-onli
 ne-workshop-mit-tine-kopplin-unverbluemelt_id32161
DTSTART;TZID=Europe/Berlin:20240416T180000
DTEND;TZID=Europe/Berlin:20240416T200000
LOCATION:Museum für Konkrete Kunst ONLINE\, \,  
END:VEVENT
END:VCALENDAR
