BEGIN:VCALENDAR
VERSION:2.0
PRODID:-//Sabre//Sabre VObject 4.5.8//EN
CALSCALE:GREGORIAN
BEGIN:VEVENT
UID:sabre-vobject-e53196f5-7aa5-4341-9f71-b5c35097b80e
DTSTAMP:20260420T072827Z
SUMMARY:Pfeifturmbegehung
DESCRIPTION:https://regioningolstadt.com/pfeifturmbegehung_id32117
DTSTART;TZID=Europe/Berlin:20240719T210000
DTEND;TZID=Europe/Berlin:20240719T214500
LOCATION:Vor Tourist Information am Rathausplatz\, Moritzstraße 19\, 85049
  Ingolstadt
END:VEVENT
END:VCALENDAR
