BEGIN:VCALENDAR
VERSION:2.0
PRODID:-//Sabre//Sabre VObject 4.5.8//EN
CALSCALE:GREGORIAN
BEGIN:VEVENT
UID:sabre-vobject-4c98e1e5-287f-443b-97c7-fd0ebd36d7ff
DTSTAMP:20260420T054852Z
SUMMARY:Pfeifturmbegehung
DESCRIPTION:https://regioningolstadt.com/pfeifturmbegehung_id32116
DTSTART;TZID=Europe/Berlin:20240719T200000
DTEND;TZID=Europe/Berlin:20240719T204500
LOCATION:Vor Tourist Information am Rathausplatz\, Moritzstraße 19\, 85049
  Ingolstadt
END:VEVENT
END:VCALENDAR
