BEGIN:VCALENDAR
VERSION:2.0
PRODID:-//Sabre//Sabre VObject 4.5.8//EN
CALSCALE:GREGORIAN
BEGIN:VEVENT
UID:sabre-vobject-0a1583cb-a255-4690-a7e6-45151e3fbb84
DTSTAMP:20260424T042615Z
SUMMARY:Pfeifturmbegehung
DESCRIPTION:https://regioningolstadt.com/pfeifturmbegehung_id32103
DTSTART;TZID=Europe/Berlin:20240608T113000
DTEND;TZID=Europe/Berlin:20240608T121500
LOCATION:Vor Tourist Information am Rathausplatz\, Moritzstraße 19\, 85049
  Ingolstadt
END:VEVENT
END:VCALENDAR
