BEGIN:VCALENDAR
VERSION:2.0
PRODID:-//Sabre//Sabre VObject 4.5.8//EN
CALSCALE:GREGORIAN
BEGIN:VEVENT
UID:sabre-vobject-74a38a15-4a27-4e88-b18d-66a4e2e4b428
DTSTAMP:20260424T104413Z
SUMMARY:Pfeifturmbegehung
DESCRIPTION:https://regioningolstadt.com/pfeifturmbegehung_id32101
DTSTART;TZID=Europe/Berlin:20240607T210000
DTEND;TZID=Europe/Berlin:20240607T214500
LOCATION:Vor Tourist Information am Rathausplatz\, Moritzstraße 19\, 85049
  Ingolstadt
END:VEVENT
END:VCALENDAR
