BEGIN:VCALENDAR
VERSION:2.0
PRODID:-//Sabre//Sabre VObject 4.5.8//EN
CALSCALE:GREGORIAN
BEGIN:VEVENT
UID:sabre-vobject-bdf8d4fa-6646-4ea3-9bd5-08eb6deff250
DTSTAMP:20260420T043203Z
SUMMARY:FORTBILDUNG FÜR LEHRER*INNEN
DESCRIPTION:https://regioningolstadt.com/fortbildung-fuer-lehrer-innen_id32
 076
DTSTART;TZID=Europe/Berlin:20240416T143000
DTEND;TZID=Europe/Berlin:20240416T160000
LOCATION:Museum für Konkrete Kunst\, Tränktorstraße 6 - 8\, 85049 Ingols
 tadt
END:VEVENT
END:VCALENDAR
