BEGIN:VCALENDAR
VERSION:2.0
PRODID:-//Sabre//Sabre VObject 4.5.8//EN
CALSCALE:GREGORIAN
BEGIN:VEVENT
UID:sabre-vobject-33fd8173-1cbb-4c2a-b603-4f831485ffb1
DTSTAMP:20260423T054029Z
SUMMARY:Klassische Stadtführung
DESCRIPTION:https://regioningolstadt.com/klassische-stadtfuehrung_id32028
DTSTART;TZID=Europe/Berlin:20250513T133000
DTEND;TZID=Europe/Berlin:20250513T150000
LOCATION:Vor Tourist Information am Rathausplatz\, Moritzstraße 19\, 85049
  Ingolstadt
END:VEVENT
END:VCALENDAR
