BEGIN:VCALENDAR
VERSION:2.0
PRODID:-//Sabre//Sabre VObject 4.5.8//EN
CALSCALE:GREGORIAN
BEGIN:VEVENT
UID:sabre-vobject-84a0680b-71a7-4bd0-a772-772dc6ae2cd4
DTSTAMP:20260420T061123Z
SUMMARY:Klassische Stadtführung
DESCRIPTION:https://regioningolstadt.com/klassische-stadtfuehrung_id32020
DTSTART;TZID=Europe/Berlin:20250318T133000
DTEND;TZID=Europe/Berlin:20250318T150000
LOCATION:Vor Tourist Information am Rathausplatz\, Moritzstraße 19\, 85049
  Ingolstadt
END:VEVENT
END:VCALENDAR
