BEGIN:VCALENDAR
VERSION:2.0
PRODID:-//Sabre//Sabre VObject 4.5.8//EN
CALSCALE:GREGORIAN
BEGIN:VEVENT
UID:sabre-vobject-f7f92b87-8613-477a-bdb8-b7693ebbc0db
DTSTAMP:20260425T215157Z
SUMMARY:Klassische Stadtführung
DESCRIPTION:https://regioningolstadt.com/klassische-stadtfuehrung_id31961
DTSTART;TZID=Europe/Berlin:20240730T133000
DTEND;TZID=Europe/Berlin:20240730T150000
LOCATION:Vor Tourist Information am Rathausplatz\, Moritzstraße 19\, 85049
  Ingolstadt
END:VEVENT
END:VCALENDAR
