BEGIN:VCALENDAR
VERSION:2.0
PRODID:-//Sabre//Sabre VObject 4.5.8//EN
CALSCALE:GREGORIAN
BEGIN:VEVENT
UID:sabre-vobject-e11a5aaa-cffe-46af-8383-684303a890b3
DTSTAMP:20260424T233423Z
SUMMARY:Klassische Stadtführung
DESCRIPTION:https://regioningolstadt.com/klassische-stadtfuehrung_id31959
DTSTART;TZID=Europe/Berlin:20240727T140000
DTEND;TZID=Europe/Berlin:20240727T153000
LOCATION:Vor Tourist Information am Rathausplatz\, Moritzstraße 19\, 85049
  Ingolstadt
END:VEVENT
END:VCALENDAR
