BEGIN:VCALENDAR
VERSION:2.0
PRODID:-//Sabre//Sabre VObject 4.5.8//EN
CALSCALE:GREGORIAN
BEGIN:VEVENT
UID:sabre-vobject-3a87fd65-2c78-4bbe-bb3b-8d22f25deef5
DTSTAMP:20260422T160534Z
SUMMARY:Klassische Stadtführung
DESCRIPTION:https://regioningolstadt.com/klassische-stadtfuehrung_id31956
DTSTART;TZID=Europe/Berlin:20240720T140000
DTEND;TZID=Europe/Berlin:20240720T153000
LOCATION:Vor Tourist Information am Rathausplatz\, Moritzstraße 19\, 85049
  Ingolstadt
END:VEVENT
END:VCALENDAR
