BEGIN:VCALENDAR
VERSION:2.0
PRODID:-//Sabre//Sabre VObject 4.5.8//EN
CALSCALE:GREGORIAN
BEGIN:VEVENT
UID:sabre-vobject-8239dec0-ed26-423c-a4c8-34efc81954c6
DTSTAMP:20260425T104901Z
SUMMARY:Klassische Stadtführung
DESCRIPTION:https://regioningolstadt.com/klassische-stadtfuehrung_id31940
DTSTART;TZID=Europe/Berlin:20240616T140000
DTEND;TZID=Europe/Berlin:20240616T153000
LOCATION:Vor Tourist Information am Rathausplatz\, Moritzstraße 19\, 85049
  Ingolstadt
END:VEVENT
END:VCALENDAR
