BEGIN:VCALENDAR
VERSION:2.0
PRODID:-//Sabre//Sabre VObject 4.5.8//EN
CALSCALE:GREGORIAN
BEGIN:VEVENT
UID:sabre-vobject-43d70d83-6c20-4869-b1a6-a785e21ca0af
DTSTAMP:20260421T112533Z
SUMMARY:Klassische Stadtführung
DESCRIPTION:https://regioningolstadt.com/klassische-stadtfuehrung_id31934
DTSTART;TZID=Europe/Berlin:20240602T140000
DTEND;TZID=Europe/Berlin:20240602T153000
LOCATION:Vor Tourist Information am Rathausplatz\, Moritzstraße 19\, 85049
  Ingolstadt
END:VEVENT
END:VCALENDAR
