BEGIN:VCALENDAR
VERSION:2.0
PRODID:-//Sabre//Sabre VObject 4.5.8//EN
CALSCALE:GREGORIAN
BEGIN:VEVENT
UID:sabre-vobject-bc0f9a94-90b4-4628-94a3-99ee321272ea
DTSTAMP:20260420T075742Z
SUMMARY:Mittagsvisite
DESCRIPTION:https://regioningolstadt.com/mittagsvisite_id31906
DTSTART;TZID=Europe/Berlin:20240416T123000
DTEND;TZID=Europe/Berlin:20240416T130000
LOCATION:Deutsches Medizinhistorisches Museum\, Anatomiestraße 18 – 20\,
  85049 Ingolstadt
END:VEVENT
END:VCALENDAR
