BEGIN:VCALENDAR
VERSION:2.0
PRODID:-//Sabre//Sabre VObject 4.5.8//EN
CALSCALE:GREGORIAN
BEGIN:VEVENT
UID:sabre-vobject-2bdc6ed3-7edd-42a1-82fe-75cf1eb834d5
DTSTAMP:20260420T133254Z
SUMMARY:2 Babykonzert
DESCRIPTION:https://regioningolstadt.com/2-babykonzert_id31903
DTSTART;TZID=Europe/Berlin:20240413T160000
DURATION:PT30M
LOCATION:Foyer des Stadttheater Ingolstadt\, Schloßlände 1\, 85049 Ingols
 tadt
END:VEVENT
END:VCALENDAR
