BEGIN:VCALENDAR
VERSION:2.0
PRODID:-//Sabre//Sabre VObject 4.5.8//EN
CALSCALE:GREGORIAN
BEGIN:VEVENT
UID:sabre-vobject-2fcaafad-0e7b-4588-b8f0-72a7c0fe6003
DTSTAMP:20260422T090722Z
SUMMARY:2. Babykonzert
DESCRIPTION:https://regioningolstadt.com/2-babykonzert_id31902
DTSTART;TZID=Europe/Berlin:20240413T143000
DURATION:PT30M
LOCATION:Foyer des Stadttheater Ingolstadt\, Schloßlände 1\, 85049 Ingols
 tadt
END:VEVENT
END:VCALENDAR
