BEGIN:VCALENDAR
VERSION:2.0
PRODID:-//Sabre//Sabre VObject 4.5.8//EN
CALSCALE:GREGORIAN
BEGIN:VEVENT
UID:sabre-vobject-b7eefd8e-a7f6-46de-abcc-19f16dd97151
DTSTAMP:20260423T110849Z
SUMMARY:Stammtisch Engagierte Stadt
DESCRIPTION:https://regioningolstadt.com/stammtisch-engagierte-stadt_id3187
 9
DTSTART;TZID=Europe/Berlin:20240610T170000
DTEND;TZID=Europe/Berlin:20240610T190000
LOCATION:Cafeteria Neuburger Kasten\, \,  
END:VEVENT
END:VCALENDAR
