BEGIN:VCALENDAR
VERSION:2.0
PRODID:-//Sabre//Sabre VObject 4.5.8//EN
CALSCALE:GREGORIAN
BEGIN:VEVENT
UID:sabre-vobject-5700cf2a-d201-4f5b-ae65-736083f89d2f
DTSTAMP:20260420T150640Z
SUMMARY:FREIE WILDBAHN\, Dagmar Hummel
DESCRIPTION:https://regioningolstadt.com/freie-wildbahn-dagmar-hummel_id317
 74
DTSTART;TZID=Europe/Berlin:20240413T180000
DTEND;TZID=Europe/Berlin:20240505T180000
LOCATION:Städtische Galerie in der Harderbastei Ingolstadt\, Oberer Graben
  55\, 85049 Ingolstadt
END:VEVENT
END:VCALENDAR
