BEGIN:VCALENDAR
VERSION:2.0
PRODID:-//Sabre//Sabre VObject 4.5.8//EN
CALSCALE:GREGORIAN
BEGIN:VEVENT
UID:sabre-vobject-c39c2cd2-c442-4b33-bbc9-b5a786b98862
DTSTAMP:20260423T054110Z
SUMMARY:HOTEL MORTAL - Schanzer Krimi Theater
DESCRIPTION:https://regioningolstadt.com/hotel-mortal-schanzer-krimi-theate
 r_id31719
DTSTART;TZID=Europe/Berlin:20250112T181500
DTEND;TZID=Europe/Berlin:20250112T213000
LOCATION:Bürgerhaus Neuburger Kasten\, Fechtgasse 6\, 85049 Ingolstadt
END:VEVENT
END:VCALENDAR
