BEGIN:VCALENDAR
VERSION:2.0
PRODID:-//Sabre//Sabre VObject 4.5.8//EN
CALSCALE:GREGORIAN
BEGIN:VEVENT
UID:sabre-vobject-20da5f17-c22c-4730-bf61-2a3e0403a5fa
DTSTAMP:20260425T165807Z
SUMMARY:Volkstanz mit der Blaskapelle Gaimersheim
DESCRIPTION:https://regioningolstadt.com/volkstanz-mit-der-blaskapelle-gaim
 ersheim_id31706
DTSTART;TZID=Europe/Berlin:20240728T170000
DTEND;TZID=Europe/Berlin:20240728T210000
LOCATION:Biergarten Schutterhof\, Friedhofstraße 1 a\, 85049 Ingolstadt
END:VEVENT
END:VCALENDAR
