BEGIN:VCALENDAR
VERSION:2.0
PRODID:-//Sabre//Sabre VObject 4.5.8//EN
CALSCALE:GREGORIAN
BEGIN:VEVENT
UID:sabre-vobject-a378a26b-a6a5-4b9c-9698-a912ef47af9b
DTSTAMP:20260424T085109Z
SUMMARY:Volkstanz mit den Schanzer Tanzboden Musikanten
DESCRIPTION:https://regioningolstadt.com/volkstanz-mit-den-schanzer-tanzbod
 en-musikanten_id31705
DTSTART;TZID=Europe/Berlin:20240630T170000
DTEND;TZID=Europe/Berlin:20240630T210000
LOCATION:Biergarten Schutterhof\, Friedhofstraße 1 a\, 85049 Ingolstadt
END:VEVENT
END:VCALENDAR
