BEGIN:VCALENDAR
VERSION:2.0
PRODID:-//Sabre//Sabre VObject 4.5.8//EN
CALSCALE:GREGORIAN
BEGIN:VEVENT
UID:sabre-vobject-d2c98adc-e680-43b2-93cf-87b9b10a285e
DTSTAMP:20260421T060127Z
SUMMARY:Spannendes Walderlebnis für Familien
DESCRIPTION:https://regioningolstadt.com/spannendes-walderlebnis-fuer-famil
 ien_id31702
DTSTART;TZID=Europe/Berlin:20240414T140000
DTEND;TZID=Europe/Berlin:20240414T163000
LOCATION:Reisberg\, \,  
END:VEVENT
END:VCALENDAR
