BEGIN:VCALENDAR
VERSION:2.0
PRODID:-//Sabre//Sabre VObject 4.5.8//EN
CALSCALE:GREGORIAN
BEGIN:VEVENT
UID:sabre-vobject-8586f768-21ee-42cd-81fa-232e83ba2c72
DTSTAMP:20260424T072646Z
SUMMARY:Digitale Informationsveranstaltung für werdende Eltern: Hello Baby
  - ein bisschen Mama\, ein bisschen Papa und ganz viel Wunder
DESCRIPTION:https://regioningolstadt.com/digitale-informationsveranstaltung
 -fuer-werdende-eltern-hello-baby-ein-bisschen-mama-ein-bisschen-papa-und-g
 anz-viel-wunder_id31684
DTSTART;TZID=Europe/Berlin:20240725T170000
DTEND;TZID=Europe/Berlin:20240725T180000
LOCATION:Digital über MS Teams\, \,  
END:VEVENT
END:VCALENDAR
