BEGIN:VCALENDAR
VERSION:2.0
PRODID:-//Sabre//Sabre VObject 4.5.8//EN
CALSCALE:GREGORIAN
BEGIN:VEVENT
UID:sabre-vobject-75e9ad7a-dddd-467f-b631-f81247d22988
DTSTAMP:20260424T203915Z
SUMMARY:Grünauer Rittertage
DESCRIPTION:https://regioningolstadt.com/gruenauer-rittertage_id31657
DTSTART;TZID=Europe/Berlin:20240509T110000
DTEND;TZID=Europe/Berlin:20240512T000000
LOCATION:86663 Neuburg\, Schloss Grünau\, Grünau 1\, 86633 Neuburg an der
  Donau
END:VEVENT
END:VCALENDAR
