BEGIN:VCALENDAR
VERSION:2.0
PRODID:-//Sabre//Sabre VObject 4.5.8//EN
CALSCALE:GREGORIAN
BEGIN:VEVENT
UID:sabre-vobject-66dbd9b6-d109-4674-9588-61d87a8f2f58
DTSTAMP:20260423T005231Z
SUMMARY:Gesundheit im Fokus: Koronare Herzkrankheit - Diagnostik und Notfal
 ltherapie
DESCRIPTION:https://regioningolstadt.com/gesundheit-im-fokus-koronare-herzk
 rankheit-diagnostik-und-notfalltherapie_id31625
DTSTART;TZID=Europe/Berlin:20240612T173000
DTEND;TZID=Europe/Berlin:20240612T181500
LOCATION:Raum Oberbayern\, Klinikum Ingolstadt\, Krumenauerstraße 25\, 850
 49 Ingolstadt
END:VEVENT
END:VCALENDAR
