BEGIN:VCALENDAR
VERSION:2.0
PRODID:-//Sabre//Sabre VObject 4.5.8//EN
CALSCALE:GREGORIAN
BEGIN:VEVENT
UID:sabre-vobject-40da632d-b5eb-4b60-b322-cec05ff6d783
DTSTAMP:20260421T034944Z
SUMMARY:Sven Catello präsentiert: David Goldrake
DESCRIPTION:https://regioningolstadt.com/sven-catello-praesentiert-david-go
 ldrake_id31624
DTSTART;TZID=Europe/Berlin:20240601T190000
DTEND;TZID=Europe/Berlin:20240601T210000
LOCATION:Altstadttheater\, Kanalstraße 1 a\, 85049 Ingolstadt
END:VEVENT
END:VCALENDAR
