BEGIN:VCALENDAR
VERSION:2.0
PRODID:-//Sabre//Sabre VObject 4.5.8//EN
CALSCALE:GREGORIAN
BEGIN:VEVENT
UID:sabre-vobject-3a46eaa1-9616-43ab-a409-79e7d91bbf7b
DTSTAMP:20260424T124846Z
SUMMARY:STEFAN LEONHARDSBERGER - RAUHNACHT - AUSVERKAUFT
DESCRIPTION:https://regioningolstadt.com/stefan-leonhardsberger-rauhnacht-a
 usverkauft_id31597
DTSTART;TZID=Europe/Berlin:20250106T200000
DURATION:PT30M
LOCATION:Kulturzentrum neun\, Elisabethstraße 9 a\, 85051 Ingolstadt
END:VEVENT
END:VCALENDAR
