BEGIN:VCALENDAR
VERSION:2.0
PRODID:-//Sabre//Sabre VObject 4.5.8//EN
CALSCALE:GREGORIAN
BEGIN:VEVENT
UID:sabre-vobject-b02395ea-d440-476e-bc3e-5f9c4a9df89c
DTSTAMP:20260422T162003Z
SUMMARY:CHRIS BOETTCHER & BIG BAND - AUSVERKAUFT
DESCRIPTION:https://regioningolstadt.com/chris-boettcher-big-band-ausverkau
 ft_id31592
DTSTART;TZID=Europe/Berlin:20241103T200000
DURATION:PT30M
LOCATION:Kulturzentrum neun\, Elisabethstraße 9 a\, 85051 Ingolstadt
END:VEVENT
END:VCALENDAR
