BEGIN:VCALENDAR
VERSION:2.0
PRODID:-//Sabre//Sabre VObject 4.5.8//EN
CALSCALE:GREGORIAN
BEGIN:VEVENT
UID:sabre-vobject-25aee491-4d26-4741-b1d6-f8d0017f1d94
DTSTAMP:20260425T135334Z
SUMMARY:OPERN AUF BAYRISCH
DESCRIPTION:https://regioningolstadt.com/opern-auf-bayrisch_id31587
DTSTART;TZID=Europe/Berlin:20240616T200000
DURATION:PT30M
LOCATION:Festsaal des Stadttheaters Ingolstadt\, Schloßlände 1\, 85049 In
 golstadt
END:VEVENT
END:VCALENDAR
