BEGIN:VCALENDAR
VERSION:2.0
PRODID:-//Sabre//Sabre VObject 4.5.8//EN
CALSCALE:GREGORIAN
BEGIN:VEVENT
UID:sabre-vobject-1704848f-46ff-4a1c-adc2-854e432f62b3
DTSTAMP:20260424T135152Z
SUMMARY:HÄISD'N'DÄISD
DESCRIPTION:https://regioningolstadt.com/haeisd-n-daeisd_id31586
DTSTART;TZID=Europe/Berlin:20240607T200000
DURATION:PT30M
LOCATION:Neue Welt\, Griesbadgasse 7\, 85049 Ingolstadt
END:VEVENT
END:VCALENDAR
