BEGIN:VCALENDAR
VERSION:2.0
PRODID:-//Sabre//Sabre VObject 4.5.8//EN
CALSCALE:GREGORIAN
BEGIN:VEVENT
UID:sabre-vobject-f55ceb08-2160-44e2-b7b8-e9795820d2f3
DTSTAMP:20260420T155634Z
SUMMARY:MNOZIL BRASS: JUBELEI
DESCRIPTION:https://regioningolstadt.com/mnozil-brass-jubelei_id31585
DTSTART;TZID=Europe/Berlin:20240531T200000
DURATION:PT30M
LOCATION:Festsaal des Stadttheaters Ingolstadt\, Schloßlände 1\, 85049 In
 golstadt
END:VEVENT
END:VCALENDAR
