BEGIN:VCALENDAR
VERSION:2.0
PRODID:-//Sabre//Sabre VObject 4.5.8//EN
CALSCALE:GREGORIAN
BEGIN:VEVENT
UID:sabre-vobject-aef905e7-aa28-46bc-9679-1f2f2833b1f6
DTSTAMP:20260419T125237Z
SUMMARY:KI als neue (Co-)Autorin?
DESCRIPTION:https://regioningolstadt.com/ki-als-neue-co-autorin_id31581
DTSTART;TZID=Europe/Berlin:20240416T180000
DTEND;TZID=Europe/Berlin:20240416T200000
LOCATION:Collegium Georgianum\, Hohe-Schul-Straße 3\, 85049 Ingolstadt
END:VEVENT
END:VCALENDAR
