BEGIN:VCALENDAR
VERSION:2.0
PRODID:-//Sabre//Sabre VObject 4.5.8//EN
CALSCALE:GREGORIAN
BEGIN:VEVENT
UID:sabre-vobject-4e84497a-4338-4dc4-9def-2b3059666732
DTSTAMP:20260421T180119Z
SUMMARY:Schlossmarkt Mediterrano Schloss Sandizell
DESCRIPTION:https://regioningolstadt.com/schlossmarkt-mediterrano-schloss-s
 andizell_id31574
DTSTART;TZID=Europe/Berlin:20240815T100000
DTEND;TZID=Europe/Berlin:20240818T180000
LOCATION:86529 Schrobenhausen\, Schloss Sandizell\, Schloßstraße 25\, 865
 29 Schrobenhausen
END:VEVENT
END:VCALENDAR
