BEGIN:VCALENDAR
VERSION:2.0
PRODID:-//Sabre//Sabre VObject 4.5.8//EN
CALSCALE:GREGORIAN
BEGIN:VEVENT
UID:sabre-vobject-ba58b34e-5579-494f-a60b-d6cd8e59e642
DTSTAMP:20260425T140909Z
SUMMARY:Frühlingsmarkt auf Schloss Sandizell
DESCRIPTION:https://regioningolstadt.com/fruehlingsmarkt-auf-schloss-sandiz
 ell_id31573
DTSTART;TZID=Europe/Berlin:20240426T100000
DTEND;TZID=Europe/Berlin:20240428T180000
LOCATION:86529 Schrobenhausen\, Schloss Sandizell\, Schloßstraße 4\, 8652
 9 Schrobenhausen
END:VEVENT
END:VCALENDAR
