BEGIN:VCALENDAR
VERSION:2.0
PRODID:-//Sabre//Sabre VObject 4.5.8//EN
CALSCALE:GREGORIAN
BEGIN:VEVENT
UID:sabre-vobject-283120ae-b147-4dde-80ed-32656b7e0674
DTSTAMP:20260422T222342Z
SUMMARY:Tango mit da Ziach: Diknu Schneeberger & Christian Bakanic Quartett
  "Avanti\, Avanti!"
DESCRIPTION:https://regioningolstadt.com/tango-mit-da-ziach-diknu-schneeber
 ger-christian-bakanic-quartett-avanti-avanti_id31548
DTSTART;TZID=Europe/Berlin:20240720T200000
DTEND;TZID=Europe/Berlin:20240720T220000
LOCATION:Bauerngerätemuseum\, Probststraße 13\, 85049 Ingolstadt
END:VEVENT
END:VCALENDAR
