BEGIN:VCALENDAR
VERSION:2.0
PRODID:-//Sabre//Sabre VObject 4.5.8//EN
CALSCALE:GREGORIAN
BEGIN:VEVENT
UID:sabre-vobject-0f27c7b2-c8d9-4682-a5ad-efdb3949c8cc
DTSTAMP:20260425T024118Z
SUMMARY:25. MARKT DER HANDWERKSKUNST
DESCRIPTION:https://regioningolstadt.com/25-markt-der-handwerkskunst_id3154
 6
DTSTART;TZID=Europe/Berlin:20240616T100000
DTEND;TZID=Europe/Berlin:20240616T180000
LOCATION:Bauerngerätemuseum\, Probststraße 13\, 85049 Ingolstadt
END:VEVENT
END:VCALENDAR
