BEGIN:VCALENDAR
VERSION:2.0
PRODID:-//Sabre//Sabre VObject 4.5.8//EN
CALSCALE:GREGORIAN
BEGIN:VEVENT
UID:sabre-vobject-22955bf2-775a-4c19-afb8-6b8f7a80a94d
DTSTAMP:20260424T190215Z
SUMMARY:25. MARKT DER HANDWERKSKUNST
DESCRIPTION:https://regioningolstadt.com/25-markt-der-handwerkskunst_id3154
 5
DTSTART;TZID=Europe/Berlin:20240615T120000
DTEND;TZID=Europe/Berlin:20240615T210000
LOCATION:Bauerngerätemuseum\, Probststraße 13\, 85049 Ingolstadt
END:VEVENT
END:VCALENDAR
