BEGIN:VCALENDAR
VERSION:2.0
PRODID:-//Sabre//Sabre VObject 4.5.8//EN
CALSCALE:GREGORIAN
BEGIN:VEVENT
UID:sabre-vobject-28f544ca-4845-4aa1-bac2-0570c535732d
DTSTAMP:20260421T191517Z
SUMMARY:Informationsabende des Zentrums für Psychische Gesundheit: Depress
 ion - mehr als nur Traurigkeit
DESCRIPTION:https://regioningolstadt.com/informationsabende-des-zentrums-fu
 er-psychische-gesundheit-depression-mehr-als-nur-traurigkeit_id31501
DTSTART;TZID=Europe/Berlin:20241212T180000
DTEND;TZID=Europe/Berlin:20241212T193000
LOCATION:Konferenzraum 2950  Zentrum für psychische Gesundheit\, Klinikum 
 Ingolstadt\, Krumenauerstraße 25\, 85049 Ingolstadt
END:VEVENT
END:VCALENDAR
