BEGIN:VCALENDAR
VERSION:2.0
PRODID:-//Sabre//Sabre VObject 4.5.8//EN
CALSCALE:GREGORIAN
BEGIN:VEVENT
UID:sabre-vobject-ff3c2e01-e8db-4de1-a74f-edf0a133a6bf
DTSTAMP:20260423T204547Z
SUMMARY:Informationsabende des Zentrums für Psychische Gesundheit: Ich tri
 nke zu viel! Kann ich aufhören? Will ich aufhören?
DESCRIPTION:https://regioningolstadt.com/informationsabende-des-zentrums-fu
 er-psychische-gesundheit-ich-trinke-zu-viel-kann-ich-aufhoeren-will-ich-au
 fhoeren_id31492
DTSTART;TZID=Europe/Berlin:20240613T180000
DTEND;TZID=Europe/Berlin:20240613T193000
LOCATION:Konferenzraum 2950  Zentrum für psychische Gesundheit\, Klinikum 
 Ingolstadt\, Krumenauerstraße 25\, 85049 Ingolstadt
END:VEVENT
END:VCALENDAR
