BEGIN:VCALENDAR
VERSION:2.0
PRODID:-//Sabre//Sabre VObject 4.5.8//EN
CALSCALE:GREGORIAN
BEGIN:VEVENT
UID:sabre-vobject-26a79c73-62ea-481f-8ea0-d796b21195f7
DTSTAMP:20260422T231649Z
SUMMARY:Gesundheit im Fokus: Koronare Herzkrankheit  Diagnostik und Notfall
 therapie
DESCRIPTION:https://regioningolstadt.com/gesundheit-im-fokus-koronare-herzk
 rankheit-diagnostik-und-notfalltherapie_id31491
DTSTART;TZID=Europe/Berlin:20240612T173000
DTEND;TZID=Europe/Berlin:20240612T181500
LOCATION:Klinikum Ingolstadt\, Krumenauerstraße 25\, 85049 Ingolstadt
END:VEVENT
END:VCALENDAR
